BEGIN:VCALENDAR
VERSION:2.0
PRODID:-// - ECPv6.15.20//NONSGML v1.0//EN
CALSCALE:GREGORIAN
METHOD:PUBLISH
X-ORIGINAL-URL:https://fengersfors.se
X-WR-CALDESC:Händelser för 
REFRESH-INTERVAL;VALUE=DURATION:PT1H
X-Robots-Tag:noindex
X-PUBLISHED-TTL:PT1H
BEGIN:VTIMEZONE
TZID:Europe/Stockholm
BEGIN:DAYLIGHT
TZOFFSETFROM:+0100
TZOFFSETTO:+0200
TZNAME:CEST
DTSTART:20250330T010000
END:DAYLIGHT
BEGIN:STANDARD
TZOFFSETFROM:+0200
TZOFFSETTO:+0100
TZNAME:CET
DTSTART:20251026T010000
END:STANDARD
BEGIN:DAYLIGHT
TZOFFSETFROM:+0100
TZOFFSETTO:+0200
TZNAME:CEST
DTSTART:20260329T010000
END:DAYLIGHT
BEGIN:STANDARD
TZOFFSETFROM:+0200
TZOFFSETTO:+0100
TZNAME:CET
DTSTART:20261025T010000
END:STANDARD
BEGIN:DAYLIGHT
TZOFFSETFROM:+0100
TZOFFSETTO:+0200
TZNAME:CEST
DTSTART:20270328T010000
END:DAYLIGHT
BEGIN:STANDARD
TZOFFSETFROM:+0200
TZOFFSETTO:+0100
TZNAME:CET
DTSTART:20271031T010000
END:STANDARD
END:VTIMEZONE
BEGIN:VEVENT
DTSTART;TZID=Europe/Stockholm:20260830T100000
DTEND;TZID=Europe/Stockholm:20260830T130000
DTSTAMP:20260420T085802
CREATED:20260211T164253Z
LAST-MODIFIED:20260211T164253Z
UID:1073-1788084000-1788094800@fengersfors.se
SUMMARY:Söndag 30 augusti: Fornborgen Österby Slott
DESCRIPTION:(Svårighetsgrad: medel) \nEfter en liten avstickare till Svalås torpruin med historier om torparen Rud\, går dagens utflykt till \nresterna av fornborgen ”Östersby Slott” och det mäktiga Vassåkerberget. Vid ”Slottet” ges en liten \nberättelse om forskning kring våra fornborgar. Därefter går vi till Vassåkerberget där vi vid en \nvälförtjänt kaffepaus\, njuter av utsikten. Vi tar oss sedan ner utefter bergets östsida\, där vi beskådar \nett rönnbestånd med kraftig påväxt av skägglav\, fortsätter förbi Vassåker och sedan tillbaka till \nbilarna. Totalt är vandringen ca 3-4km
URL:https://fengersfors.se/evenemang/sondag-30-augusti-fornborgen-osterby-slott/
CATEGORIES:Vandring
END:VEVENT
END:VCALENDAR