BEGIN:VCALENDAR
VERSION:2.0
PRODID:-// - ECPv6.15.20//NONSGML v1.0//EN
CALSCALE:GREGORIAN
METHOD:PUBLISH
X-ORIGINAL-URL:https://fengersfors.se
X-WR-CALDESC:Händelser för 
REFRESH-INTERVAL;VALUE=DURATION:PT1H
X-Robots-Tag:noindex
X-PUBLISHED-TTL:PT1H
BEGIN:VTIMEZONE
TZID:Europe/Stockholm
BEGIN:DAYLIGHT
TZOFFSETFROM:+0100
TZOFFSETTO:+0200
TZNAME:CEST
DTSTART:20250330T010000
END:DAYLIGHT
BEGIN:STANDARD
TZOFFSETFROM:+0200
TZOFFSETTO:+0100
TZNAME:CET
DTSTART:20251026T010000
END:STANDARD
BEGIN:DAYLIGHT
TZOFFSETFROM:+0100
TZOFFSETTO:+0200
TZNAME:CEST
DTSTART:20260329T010000
END:DAYLIGHT
BEGIN:STANDARD
TZOFFSETFROM:+0200
TZOFFSETTO:+0100
TZNAME:CET
DTSTART:20261025T010000
END:STANDARD
BEGIN:DAYLIGHT
TZOFFSETFROM:+0100
TZOFFSETTO:+0200
TZNAME:CEST
DTSTART:20270328T010000
END:DAYLIGHT
BEGIN:STANDARD
TZOFFSETFROM:+0200
TZOFFSETTO:+0100
TZNAME:CET
DTSTART:20271031T010000
END:STANDARD
END:VTIMEZONE
BEGIN:VEVENT
DTSTART;TZID=Europe/Stockholm:20260708T163000
DTEND;TZID=Europe/Stockholm:20260708T233000
DTSTAMP:20260420T072004
CREATED:20260221T094016Z
LAST-MODIFIED:20260326T122926Z
UID:1122-1783528200-1783553400@fengersfors.se
SUMMARY:Gardens of music
DESCRIPTION:Sommarens mysigaste musikfestival\n\n\nSnöra på dig promenadskorna\, packa med en filt och peppa för den enormt mysiga och helt nya musikfestivalen Gardens of music! En promenerande musikfestival i fyra trädgårdar med start på Not Quite i Fengersfors och slutstation på Fröbacken i Fröskog. Fyra band\, fyra trägårdar och 2\,5 km!
URL:https://fengersfors.se/evenemang/gardens-of-music/
LOCATION:Fröbacken\, Fogdevägen 7\, Fengersfors\, 66295\, Sweden
CATEGORIES:Kultur, Musik, Teater
ORGANIZER;CN="Fr%C3%B6backen":MAILTO:hej@frobacken.se
END:VEVENT
BEGIN:VEVENT
DTSTART;TZID=Europe/Stockholm:20260718T100000
DTEND;TZID=Europe/Stockholm:20260718T170000
DTSTAMP:20260420T072004
CREATED:20260326T122243Z
LAST-MODIFIED:20260326T122525Z
UID:1527-1784368800-1784394000@fengersfors.se
SUMMARY:Kobonde för en dag - Koflytt och fika i hagen med "Kossorna i Fengersfors"
DESCRIPTION:Bli ko-bonde för en dag! Justus och Gustaf är lokala kobönder som bedriver småskaligt och regenerativt lantbruk på ett sätt som är bra för både oss\, naturen och inte minst kossorna. Kossorna flyttas ofta och i den här upplevelsen får du hjälpa till när de flyttas till en ny del av hagen de betar i! För mer information Fröbacken \n 
URL:https://fengersfors.se/evenemang/kobonde-for-en-dag-koflytt-och-fika-i-hagen-med-kossorna-i-fengersfors/
LOCATION:Fröbacken\, Fogdevägen 7\, Fengersfors\, 66295\, Sweden
CATEGORIES:Händer i Fröskog & Fengersfors
ORGANIZER;CN="Fr%C3%B6backen":MAILTO:hej@frobacken.se
END:VEVENT
END:VCALENDAR