BEGIN:VCALENDAR
VERSION:2.0
PRODID:-// - ECPv6.15.20//NONSGML v1.0//EN
CALSCALE:GREGORIAN
METHOD:PUBLISH
X-ORIGINAL-URL:https://fengersfors.se
X-WR-CALDESC:Händelser för 
REFRESH-INTERVAL;VALUE=DURATION:PT1H
X-Robots-Tag:noindex
X-PUBLISHED-TTL:PT1H
BEGIN:VTIMEZONE
TZID:Europe/Stockholm
BEGIN:DAYLIGHT
TZOFFSETFROM:+0100
TZOFFSETTO:+0200
TZNAME:CEST
DTSTART:20250330T010000
END:DAYLIGHT
BEGIN:STANDARD
TZOFFSETFROM:+0200
TZOFFSETTO:+0100
TZNAME:CET
DTSTART:20251026T010000
END:STANDARD
BEGIN:DAYLIGHT
TZOFFSETFROM:+0100
TZOFFSETTO:+0200
TZNAME:CEST
DTSTART:20260329T010000
END:DAYLIGHT
BEGIN:STANDARD
TZOFFSETFROM:+0200
TZOFFSETTO:+0100
TZNAME:CET
DTSTART:20261025T010000
END:STANDARD
BEGIN:DAYLIGHT
TZOFFSETFROM:+0100
TZOFFSETTO:+0200
TZNAME:CEST
DTSTART:20270328T010000
END:DAYLIGHT
BEGIN:STANDARD
TZOFFSETFROM:+0200
TZOFFSETTO:+0100
TZNAME:CET
DTSTART:20271031T010000
END:STANDARD
END:VTIMEZONE
BEGIN:VEVENT
DTSTART;TZID=Europe/Stockholm:20261025T100000
DTEND;TZID=Europe/Stockholm:20261025T130000
DTSTAMP:20260420T213124
CREATED:20260211T164524Z
LAST-MODIFIED:20260211T164524Z
UID:1077-1792922400-1792933200@fengersfors.se
SUMMARY:Söndagen 25 oktober: Jättedalen vid Olevattnet
DESCRIPTION:(svårighetsgrad Del1 upp till Olevattnet: lätt . Del2\, sista lilla biten till jättegrottan: svår ) \nVi samåker hem till Bengt Åke Lövgren\, som följer med på promenaden längs skogsvägen upp till \nOlevattnet (lätt). Bengt Åke berättar sedan vid välförtjänt kaffepaus om grottan och vad den sägs ha \nanvänts till. Därefter går de som vill med på den korta men lite stökiga stigen fram till grottan\, \nmedan resten sitter kvar och tar en påtår. Totalt blir då vandringen ca 3 km.
URL:https://fengersfors.se/evenemang/sondagen-25-oktober-jattedalen-vid-olevattnet/
CATEGORIES:Vandring
END:VEVENT
END:VCALENDAR