BEGIN:VCALENDAR
VERSION:2.0
PRODID:-// - ECPv6.15.20//NONSGML v1.0//EN
CALSCALE:GREGORIAN
METHOD:PUBLISH
X-ORIGINAL-URL:https://fengersfors.se
X-WR-CALDESC:Händelser för 
REFRESH-INTERVAL;VALUE=DURATION:PT1H
X-Robots-Tag:noindex
X-PUBLISHED-TTL:PT1H
BEGIN:VTIMEZONE
TZID:Europe/Stockholm
BEGIN:DAYLIGHT
TZOFFSETFROM:+0100
TZOFFSETTO:+0200
TZNAME:CEST
DTSTART:20250330T010000
END:DAYLIGHT
BEGIN:STANDARD
TZOFFSETFROM:+0200
TZOFFSETTO:+0100
TZNAME:CET
DTSTART:20251026T010000
END:STANDARD
BEGIN:DAYLIGHT
TZOFFSETFROM:+0100
TZOFFSETTO:+0200
TZNAME:CEST
DTSTART:20260329T010000
END:DAYLIGHT
BEGIN:STANDARD
TZOFFSETFROM:+0200
TZOFFSETTO:+0100
TZNAME:CET
DTSTART:20261025T010000
END:STANDARD
BEGIN:DAYLIGHT
TZOFFSETFROM:+0100
TZOFFSETTO:+0200
TZNAME:CEST
DTSTART:20270328T010000
END:DAYLIGHT
BEGIN:STANDARD
TZOFFSETFROM:+0200
TZOFFSETTO:+0100
TZNAME:CET
DTSTART:20271031T010000
END:STANDARD
END:VTIMEZONE
BEGIN:VEVENT
DTSTART;TZID=Europe/Stockholm:20260520T190000
DTEND;TZID=Europe/Stockholm:20260520T210000
DTSTAMP:20260420T052949
CREATED:20260221T102935Z
LAST-MODIFIED:20260402T052925Z
UID:1141-1779303600-1779310800@fengersfors.se
SUMMARY:KONSERT MED EMIL ERNEBRO & FILIP JERS
DESCRIPTION:Onsdag 20 maj kl 19.00 Emil Ernebro (gitarr) och Filip Jers (munspel) är två unika musikanter på den svenska \nmusikscenen. Duon bildades 2017 men hade i flera år fått höra på olika håll – ni borde spela tillsammans! \nPlats: Fritidslokalerna\, Fengersfors / Folkets Hus \nBiljetter: www.billetto.se Medlemmar i FKF 200 kr\, övriga 250 kr
URL:https://fengersfors.se/evenemang/konsert-med-emil-ernebro-filip-jers/
LOCATION:Fengersfors Fritidslokaler\, Fröskogsvägen 3\, Fengersfors\, 66295\, Sweden
CATEGORIES:Händer i Fröskog & Fengersfors,Kultur, Musik, Teater
END:VEVENT
END:VCALENDAR