BEGIN:VCALENDAR
VERSION:2.0
PRODID:-// - ECPv6.15.20//NONSGML v1.0//EN
CALSCALE:GREGORIAN
METHOD:PUBLISH
X-ORIGINAL-URL:https://fengersfors.se
X-WR-CALDESC:Händelser för 
REFRESH-INTERVAL;VALUE=DURATION:PT1H
X-Robots-Tag:noindex
X-PUBLISHED-TTL:PT1H
BEGIN:VTIMEZONE
TZID:Europe/Stockholm
BEGIN:DAYLIGHT
TZOFFSETFROM:+0100
TZOFFSETTO:+0200
TZNAME:CEST
DTSTART:20250330T010000
END:DAYLIGHT
BEGIN:STANDARD
TZOFFSETFROM:+0200
TZOFFSETTO:+0100
TZNAME:CET
DTSTART:20251026T010000
END:STANDARD
BEGIN:DAYLIGHT
TZOFFSETFROM:+0100
TZOFFSETTO:+0200
TZNAME:CEST
DTSTART:20260329T010000
END:DAYLIGHT
BEGIN:STANDARD
TZOFFSETFROM:+0200
TZOFFSETTO:+0100
TZNAME:CET
DTSTART:20261025T010000
END:STANDARD
BEGIN:DAYLIGHT
TZOFFSETFROM:+0100
TZOFFSETTO:+0200
TZNAME:CEST
DTSTART:20270328T010000
END:DAYLIGHT
BEGIN:STANDARD
TZOFFSETFROM:+0200
TZOFFSETTO:+0100
TZNAME:CET
DTSTART:20271031T010000
END:STANDARD
END:VTIMEZONE
BEGIN:VEVENT
DTSTART;TZID=Europe/Stockholm:20260510T110000
DTEND;TZID=Europe/Stockholm:20260510T170000
DTSTAMP:20260420T040300
CREATED:20260221T102422Z
LAST-MODIFIED:20260221T102422Z
UID:1136-1778410800-1778432400@fengersfors.se
SUMMARY:HÄNDER & JORD TRÄDGÅRDSFESTIVAL på Not Quite
DESCRIPTION:Lördag & söndag 9-10 maj kl 11-17 + Konsert med MAMBO JAMBO lördag 9 maj kl 17.30 \nPlats: Not Quite\, Fengersfors. Två dagar med tema trädgård. Byt – Sälj – Köp plantor\, sticklingar\, fröer mm. \nFörsäljning av hantverk med trädgårdskoppling\, workshops\, föreläsning om jord mm. \nInträde konsert: Medlemmar i FKF & Not Quite 150 kr\, övriga 200 kr. \nEtt samarrangemang mellan Fröskogs Kulturförening en del av Riksteatern\, Not Quite\, Sockenbonden och VGR.
URL:https://fengersfors.se/evenemang/hander-jord-tradgardsfestival-pa-not-quite-2/
LOCATION:Not Quite\, Fabriksvägen 2\, Fengersfors\, 66295\, Sweden
CATEGORIES:Kultur, Musik, Teater,Odling
END:VEVENT
END:VCALENDAR