BEGIN:VCALENDAR
VERSION:2.0
PRODID:-// - ECPv6.15.20//NONSGML v1.0//EN
CALSCALE:GREGORIAN
METHOD:PUBLISH
X-ORIGINAL-URL:https://fengersfors.se
X-WR-CALDESC:Händelser för 
REFRESH-INTERVAL;VALUE=DURATION:PT1H
X-Robots-Tag:noindex
X-PUBLISHED-TTL:PT1H
BEGIN:VTIMEZONE
TZID:Europe/Stockholm
BEGIN:DAYLIGHT
TZOFFSETFROM:+0100
TZOFFSETTO:+0200
TZNAME:CEST
DTSTART:20250330T010000
END:DAYLIGHT
BEGIN:STANDARD
TZOFFSETFROM:+0200
TZOFFSETTO:+0100
TZNAME:CET
DTSTART:20251026T010000
END:STANDARD
BEGIN:DAYLIGHT
TZOFFSETFROM:+0100
TZOFFSETTO:+0200
TZNAME:CEST
DTSTART:20260329T010000
END:DAYLIGHT
BEGIN:STANDARD
TZOFFSETFROM:+0200
TZOFFSETTO:+0100
TZNAME:CET
DTSTART:20261025T010000
END:STANDARD
BEGIN:DAYLIGHT
TZOFFSETFROM:+0100
TZOFFSETTO:+0200
TZNAME:CEST
DTSTART:20270328T010000
END:DAYLIGHT
BEGIN:STANDARD
TZOFFSETFROM:+0200
TZOFFSETTO:+0100
TZNAME:CET
DTSTART:20271031T010000
END:STANDARD
END:VTIMEZONE
BEGIN:VEVENT
DTSTART;TZID=Europe/Stockholm:20260426T100000
DTEND;TZID=Europe/Stockholm:20260426T130000
DTSTAMP:20260419T225738
CREATED:20260211T163856Z
LAST-MODIFIED:20260211T164055Z
UID:1067-1777197600-1777208400@fengersfors.se
SUMMARY:Söndagen 26 april: Korpeknatten
DESCRIPTION:(svårighetsgrad: medel ) \nVi samåker till Byn\, vandrar förbi Mellbyn och jättegranen\, uppför backen och från baksidan tar vi \noss sedan upp till knattens högsta punkt där utsikten är fantastisk och kaffet smakar som bäst. Hela \npromenaden är ca 2\,5km
URL:https://fengersfors.se/evenemang/sondagen-26-april-korpeknatten/
CATEGORIES:Vandring
END:VEVENT
BEGIN:VEVENT
DTSTART;TZID=Europe/Stockholm:20260426T100000
DTEND;TZID=Europe/Stockholm:20260426T140000
DTSTAMP:20260419T225738
CREATED:20260402T052314Z
LAST-MODIFIED:20260402T052314Z
UID:1541-1777197600-1777212000@fengersfors.se
SUMMARY:Planera din trädgård med trädgårdsdeisgnern Ida
DESCRIPTION:Varmt välkommen till en dag där vi tillsammans med trädgårdsdesignern Ida Sundell planerar vår trädgård! Ida går igenom grunderna till trädgårdsplanering och du får sedan\, med hjälp av dina nya kunskaper\, praktiskt jobba med en liten del av din egen trädgård som du själv valt ut i förväg.
URL:https://fengersfors.se/evenemang/planera-din-tradgard-med-tradgardsdeisgnern-ida/
LOCATION:Fröbacken\, Fogdevägen 7\, Fengersfors\, 66295\, Sweden
CATEGORIES:Händer i Fröskog & Fengersfors,Odling
ORGANIZER;CN="Fr%C3%B6backen":MAILTO:hej@frobacken.se
END:VEVENT
BEGIN:VEVENT
DTSTART;TZID=Europe/Stockholm:20260426T180000
DTEND;TZID=Europe/Stockholm:20260426T200000
DTSTAMP:20260419T225738
CREATED:20260408T172751Z
LAST-MODIFIED:20260408T172805Z
UID:1552-1777226400-1777233600@fengersfors.se
SUMMARY:Vårgudstjänst i Fröskogs kyrka
DESCRIPTION:Vårtal på kyrkbacken och efteråt bjuds det på kaffeservering i församlingshemmet med årgångar i samarbete med Röda Korset. Vinster till årgångar mottages tacksamt.\nVarmt välkommen!
URL:https://fengersfors.se/evenemang/vargudstjanst-i-froskogs-kyrka/
LOCATION:Fröskogs kyrka\, Fogdevägen 9\, Fengersfors\, 66295\, Sweden
CATEGORIES:Händer i Fröskog & Fengersfors
END:VEVENT
END:VCALENDAR