BEGIN:VCALENDAR
VERSION:2.0
PRODID:-// - ECPv6.15.20//NONSGML v1.0//EN
CALSCALE:GREGORIAN
METHOD:PUBLISH
X-ORIGINAL-URL:https://fengersfors.se
X-WR-CALDESC:Händelser för 
REFRESH-INTERVAL;VALUE=DURATION:PT1H
X-Robots-Tag:noindex
X-PUBLISHED-TTL:PT1H
BEGIN:VTIMEZONE
TZID:Europe/Stockholm
BEGIN:DAYLIGHT
TZOFFSETFROM:+0100
TZOFFSETTO:+0200
TZNAME:CEST
DTSTART:20250330T010000
END:DAYLIGHT
BEGIN:STANDARD
TZOFFSETFROM:+0200
TZOFFSETTO:+0100
TZNAME:CET
DTSTART:20251026T010000
END:STANDARD
BEGIN:DAYLIGHT
TZOFFSETFROM:+0100
TZOFFSETTO:+0200
TZNAME:CEST
DTSTART:20260329T010000
END:DAYLIGHT
BEGIN:STANDARD
TZOFFSETFROM:+0200
TZOFFSETTO:+0100
TZNAME:CET
DTSTART:20261025T010000
END:STANDARD
BEGIN:DAYLIGHT
TZOFFSETFROM:+0100
TZOFFSETTO:+0200
TZNAME:CEST
DTSTART:20270328T010000
END:DAYLIGHT
BEGIN:STANDARD
TZOFFSETFROM:+0200
TZOFFSETTO:+0100
TZNAME:CET
DTSTART:20271031T010000
END:STANDARD
END:VTIMEZONE
BEGIN:VEVENT
DTSTART;TZID=Europe/Stockholm:20260421T140000
DTEND;TZID=Europe/Stockholm:20260421T160000
DTSTAMP:20260419T145445
CREATED:20260414T085433Z
LAST-MODIFIED:20260414T085433Z
UID:1558-1776780000-1776787200@fengersfors.se
SUMMARY:Café i Fröskogs församlingshem
DESCRIPTION:Lotta Weidling och Gunnel Axelsson visar bilder och berättar från en resa till Fjärran Land. Smörgås bjuds till kaffet.
URL:https://fengersfors.se/evenemang/cafe-i-froskogs-forsamlingshem/
LOCATION:Församlingshemmet i Fröskog\, Fogdevägen 9\, Fengersfors\, 66295\, Sweden
CATEGORIES:Händer i Fröskog & Fengersfors
ATTACH;FMTTYPE=image/jpeg:https://fengersfors.se/wp-content/uploads/2026/04/657182784_929705116688039_3818278456933829908_n.jpg
END:VEVENT
END:VCALENDAR