BEGIN:VCALENDAR
VERSION:2.0
PRODID:-// - ECPv6.15.20//NONSGML v1.0//EN
CALSCALE:GREGORIAN
METHOD:PUBLISH
X-ORIGINAL-URL:https://fengersfors.se
X-WR-CALDESC:Händelser för 
REFRESH-INTERVAL;VALUE=DURATION:PT1H
X-Robots-Tag:noindex
X-PUBLISHED-TTL:PT1H
BEGIN:VTIMEZONE
TZID:Europe/Stockholm
BEGIN:DAYLIGHT
TZOFFSETFROM:+0100
TZOFFSETTO:+0200
TZNAME:CEST
DTSTART:20250330T010000
END:DAYLIGHT
BEGIN:STANDARD
TZOFFSETFROM:+0200
TZOFFSETTO:+0100
TZNAME:CET
DTSTART:20251026T010000
END:STANDARD
BEGIN:DAYLIGHT
TZOFFSETFROM:+0100
TZOFFSETTO:+0200
TZNAME:CEST
DTSTART:20260329T010000
END:DAYLIGHT
BEGIN:STANDARD
TZOFFSETFROM:+0200
TZOFFSETTO:+0100
TZNAME:CET
DTSTART:20261025T010000
END:STANDARD
BEGIN:DAYLIGHT
TZOFFSETFROM:+0100
TZOFFSETTO:+0200
TZNAME:CEST
DTSTART:20270328T010000
END:DAYLIGHT
BEGIN:STANDARD
TZOFFSETFROM:+0200
TZOFFSETTO:+0100
TZNAME:CET
DTSTART:20271031T010000
END:STANDARD
END:VTIMEZONE
BEGIN:VEVENT
DTSTART;TZID=Europe/Stockholm:20260413T180000
DTEND;TZID=Europe/Stockholm:20260413T210000
DTSTAMP:20260419T225738
CREATED:20260407T192558Z
LAST-MODIFIED:20260407T193128Z
UID:1544-1776103200-1776114000@fengersfors.se
SUMMARY:Landsbygdens betydelse
DESCRIPTION:Studieförbundet Vuxenskolan bjuder in politiker och allmänhet till SV Arena\, debatt och träffar \nmed moderator. Inför valet i höst finns nu möjlighet att i dialog möta politikerna och ställa frågor \nom landsbygden som engagerar och berör. \nVi börjar med två träffar under temat: -Landsbygdens betydelse för Åmåls kommun. Fokus och \nutgångpunkten i samtalen kommer alltså att vara ett landsbygdsperspektiv. \nFörsta tillfället i Ånimskog 13 april kl. 18\,00\, andra tillfället i Edsleskog 22 april kl. \n18\,00. \nInformation: \nÅnimskogs Bygdegård 13 april kl. 18\,00 \nEdsleskogs Prästgård 22 april kl. 18\,00 \nKostnad: Kostnadsfritt \nAnmälan: Ingen anmälan behövs
URL:https://fengersfors.se/evenemang/landsbygdens-betydelse/
LOCATION:Ånimskog\, Stora Mossevägen 7\, Ånimskog\, 662 97\, Sweden
CATEGORIES:Händer i Fröskog & Fengersfors
END:VEVENT
END:VCALENDAR