BEGIN:VCALENDAR
VERSION:2.0
PRODID:-// - ECPv6.15.20//NONSGML v1.0//EN
CALSCALE:GREGORIAN
METHOD:PUBLISH
X-ORIGINAL-URL:https://fengersfors.se
X-WR-CALDESC:Händelser för 
REFRESH-INTERVAL;VALUE=DURATION:PT1H
X-Robots-Tag:noindex
X-PUBLISHED-TTL:PT1H
BEGIN:VTIMEZONE
TZID:Europe/Stockholm
BEGIN:DAYLIGHT
TZOFFSETFROM:+0100
TZOFFSETTO:+0200
TZNAME:CEST
DTSTART:20250330T010000
END:DAYLIGHT
BEGIN:STANDARD
TZOFFSETFROM:+0200
TZOFFSETTO:+0100
TZNAME:CET
DTSTART:20251026T010000
END:STANDARD
BEGIN:DAYLIGHT
TZOFFSETFROM:+0100
TZOFFSETTO:+0200
TZNAME:CEST
DTSTART:20260329T010000
END:DAYLIGHT
BEGIN:STANDARD
TZOFFSETFROM:+0200
TZOFFSETTO:+0100
TZNAME:CET
DTSTART:20261025T010000
END:STANDARD
BEGIN:DAYLIGHT
TZOFFSETFROM:+0100
TZOFFSETTO:+0200
TZNAME:CEST
DTSTART:20270328T010000
END:DAYLIGHT
BEGIN:STANDARD
TZOFFSETFROM:+0200
TZOFFSETTO:+0100
TZNAME:CET
DTSTART:20271031T010000
END:STANDARD
END:VTIMEZONE
BEGIN:VEVENT
DTSTART;TZID=Europe/Stockholm:20260404T110000
DTEND;TZID=Europe/Stockholm:20260404T120000
DTSTAMP:20260420T133403
CREATED:20260402T051052Z
LAST-MODIFIED:20260402T051052Z
UID:1538-1775300400-1775304000@fengersfors.se
SUMMARY:PÅSKPARAD I FENGERSFORS
DESCRIPTION:🐥🐣🐥🐣🐥 \nVi samlas vid Fengersfors – Fröskogs Lanthandel för att promenera tillsammans genom samhället till lekparken för att där byta påskbrev och umgås! \nFinns möjlighet att grilla korv! \nVÄLKOMNA ALLA PÅSKGUMMOR OCH\nPÅSKGUBBAR🐥☀️🐥☀️🐥
URL:https://fengersfors.se/evenemang/paskparad-i-fengersfors/
LOCATION:Fengersfors Fröskogs Lanthandel\, Fabriksvägen 3\, Fengersfors\, 66295\, Sweden
CATEGORIES:Händer i Fröskog & Fengersfors
END:VEVENT
END:VCALENDAR